BEGIN:VCALENDAR
VERSION:2.0
PRODID:-//Plone.org//NONSGML plone.app.event//EN
X-WR-TIMEZONE:Brazil/East
BEGIN:VEVENT
SUMMARY:SESSÃO ESPECIAL EM COMEMORAÇÃO AOS 40 ANOS DE FUNDAÇÃO DO CRE
 SPA - CENTRO DE REABILITAÇÃO SÃO PAULO APOSTOLO.
DTSTART;TZID=Brazil/East;VALUE=DATE-TIME:20230605T090000
DTEND;TZID=Brazil/East;VALUE=DATE-TIME:20230605T120000
DTSTAMP;VALUE=DATE-TIME:20260420T214206Z
UID:bca2431a7f1b43f1bde2727023246679@www.goiania.go.leg.br
CONTACT:VEREADOR WILLIAN VELOSO
CREATED;VALUE=DATE-TIME:20230411T134710Z
LAST-MODIFIED;VALUE=DATE-TIME:20230522T205516Z
LOCATION:PLENÁRIO TRAJANO GUIMARÃES
URL:https://www.goiania.go.leg.br/sala-de-imprensa/eventos/sessao-especial
 -em-comemoracao-aos-40-anos-de-fundacao-do-crespa-centro-de-reabilitacao-s
 ao-paulo-apostolo
END:VEVENT
BEGIN:VTIMEZONE
TZID:Brazil/East
X-LIC-LOCATION:Brazil/East
BEGIN:STANDARD
DTSTART;VALUE=DATE-TIME:20230225T230000
TZNAME:BRT
TZOFFSETFROM:-0200
TZOFFSETTO:-0300
END:STANDARD
END:VTIMEZONE
END:VCALENDAR
