BEGIN:VCALENDAR
VERSION:2.0
PRODID:-//Plone.org//NONSGML plone.app.event//EN
X-WR-TIMEZONE:Brazil/East
BEGIN:VEVENT
SUMMARY:SESSÃO ESPECIAL EM COMEMORAÇÃO AOS 36 ANOS DO RESIDENCIAL ITAIP
 U.
DTSTART;TZID=Brazil/East;VALUE=DATE-TIME:20230812T090000
DTEND;TZID=Brazil/East;VALUE=DATE-TIME:20230812T120000
DTSTAMP;VALUE=DATE-TIME:20260419T150136Z
UID:e26ddc8a3f8b4b3395de7da3986a9122@www.goiania.go.leg.br
CONTACT:VEREADOR ANSELMO PEREIRA
CREATED;VALUE=DATE-TIME:20230803T133848Z
LAST-MODIFIED;VALUE=DATE-TIME:20230803T133857Z
LOCATION:RUA RI 12 QD. 81 ESQUINA COM RUA RI 36 - RESIDENCIAL ITAIPU
URL:https://www.goiania.go.leg.br/sala-de-imprensa/eventos/sessao-especial
 -em-comemoracao-aos-36-anos-do-residencial-itaipu
END:VEVENT
BEGIN:VTIMEZONE
TZID:Brazil/East
X-LIC-LOCATION:Brazil/East
BEGIN:STANDARD
DTSTART;VALUE=DATE-TIME:20230225T230000
TZNAME:BRT
TZOFFSETFROM:-0200
TZOFFSETTO:-0300
END:STANDARD
END:VTIMEZONE
END:VCALENDAR
