BEGIN:VCALENDAR
VERSION:2.0
PRODID:-//Plone.org//NONSGML plone.app.event//EN
X-WR-TIMEZONE:Brazil/East
BEGIN:VEVENT
SUMMARY:SESSÃO ESPECIAL EM COMEMORAÇÃO AOS 30 ANOS DO CONSELHO MUNICIPA
 L DE POLÍTICAS URBANAS - COMPUR.
DTSTART;TZID=Brazil/East;VALUE=DATE-TIME:20251110T090000
DTEND;TZID=Brazil/East;VALUE=DATE-TIME:20251110T120000
DTSTAMP;VALUE=DATE-TIME:20260419T215434Z
UID:9cde8e0f24ba42baacad8430899c7e6f@www.goiania.go.leg.br
CONTACT:VEREADOR ANSELMO PEREIRA
CREATED;VALUE=DATE-TIME:20251103T134542Z
LAST-MODIFIED;VALUE=DATE-TIME:20251103T134644Z
LOCATION:PLENÁRIO TRAJANO GUIMARÃES
URL:https://www.goiania.go.leg.br/sala-de-imprensa/eventos/sessao-especial
 -em-comemoracao-aos-30-anos-doo-conselho-municipal-de-politicas-urbanas-co
 mpur
END:VEVENT
BEGIN:VTIMEZONE
TZID:Brazil/East
X-LIC-LOCATION:Brazil/East
BEGIN:DAYLIGHT
DTSTART;VALUE=DATE-TIME:20251019T010000
TZNAME:BRST
TZOFFSETFROM:-0300
TZOFFSETTO:-0200
END:DAYLIGHT
END:VTIMEZONE
END:VCALENDAR
