BEGIN:VCALENDAR
VERSION:2.0
PRODID:-//Plone.org//NONSGML plone.app.event//EN
X-WR-TIMEZONE:Brazil/East
BEGIN:VEVENT
SUMMARY:SESSÃO ESPECIAL EM COMEMORAÇÃO AOS 25 ANOS DA ORQUESTRA SINFÔN
 ICA DE GOIÂNIA.
DTSTART;TZID=Brazil/East;VALUE=DATE-TIME:20181210T193000
DTEND;TZID=Brazil/East;VALUE=DATE-TIME:20181210T220000
DTSTAMP;VALUE=DATE-TIME:20260424T070055Z
UID:5a2b1a42d196461f9a79273e0ea99cdf@www.goiania.go.leg.br
CONTACT:VEREADOR ANSELMO PEREIRA
CREATED;VALUE=DATE-TIME:20181122T114039Z
LAST-MODIFIED;VALUE=DATE-TIME:20181122T114046Z
LOCATION:PLENÁRIO TRAJANO GUIMARÃES
URL:https://www.goiania.go.leg.br/sala-de-imprensa/eventos/sessao-especial
 -em-comemoracao-aos-25-anos-da-orquestra-sinfonica-de-goiania
END:VEVENT
BEGIN:VTIMEZONE
TZID:Brazil/East
X-LIC-LOCATION:Brazil/East
BEGIN:DAYLIGHT
DTSTART;VALUE=DATE-TIME:20181021T010000
TZNAME:BRST
TZOFFSETFROM:-0300
TZOFFSETTO:-0200
END:DAYLIGHT
END:VTIMEZONE
END:VCALENDAR
