BEGIN:VCALENDAR
VERSION:2.0
PRODID:-//Plone.org//NONSGML plone.app.event//EN
X-WR-TIMEZONE:Brazil/East
BEGIN:VEVENT
SUMMARY:SESSÃO ESPECIAL EM COMEMORAÇÃO AOS 209 ANOS DO ANIVERSÁRIO DE 
 CAMPINAS.
DTSTART;TZID=Brazil/East;VALUE=DATE-TIME:20190708T090000
DTEND;TZID=Brazil/East;VALUE=DATE-TIME:20190708T100000
DTSTAMP;VALUE=DATE-TIME:20260424T123504Z
UID:54bca0085b98472db34473ca30e231f6@www.goiania.go.leg.br
CONTACT:VEREADOR ANSELMO PEREIRA
CREATED;VALUE=DATE-TIME:20190205T105606Z
LAST-MODIFIED;VALUE=DATE-TIME:20190702T144210Z
LOCATION:AUDITÓRIO SANTA CLARA DE CAMPINAS
URL:https://www.goiania.go.leg.br/sala-de-imprensa/eventos/sessao-especial
 -em-comemoracao-aos-209-anos-do-aniversario-de-campinas
END:VEVENT
BEGIN:VTIMEZONE
TZID:Brazil/East
X-LIC-LOCATION:Brazil/East
BEGIN:STANDARD
DTSTART;VALUE=DATE-TIME:20190216T230000
TZNAME:BRT
TZOFFSETFROM:-0200
TZOFFSETTO:-0300
END:STANDARD
END:VTIMEZONE
END:VCALENDAR
