BEGIN:VCALENDAR
VERSION:2.0
PRODID:-//Plone.org//NONSGML plone.app.event//EN
X-WR-TIMEZONE:Brazil/East
BEGIN:VEVENT
SUMMARY:SESSÃO ESPECIAL EM COMEMORAÇÃO AOS 12 ANOS DO COMITÊ GOIANO...
 (MOVIMENTO NACIONAL DA CIDADANIA BRASIL SEM ABORTO.
DTSTART;TZID=Brazil/East;VALUE=DATE-TIME:20190506T193000
DTEND;TZID=Brazil/East;VALUE=DATE-TIME:20190506T220000
DTSTAMP;VALUE=DATE-TIME:20260424T052952Z
UID:cd9ccc47d8074dbcb1606a85e83e3a1e@www.goiania.go.leg.br
CONTACT:VEREADOR KLEYBE MORAIS
CREATED;VALUE=DATE-TIME:20190222T112904Z
LAST-MODIFIED;VALUE=DATE-TIME:20190222T113026Z
LOCATION:PLENÁRIO TRAJANO GUIMARÃES
URL:https://www.goiania.go.leg.br/sala-de-imprensa/eventos/sessao-especial
 -em-comemoracao-aos-12-anos-do-comite-goiano-movimento-nacional-da-cidadan
 ia-brasil-sem-aborto
END:VEVENT
BEGIN:VTIMEZONE
TZID:Brazil/East
X-LIC-LOCATION:Brazil/East
BEGIN:STANDARD
DTSTART;VALUE=DATE-TIME:20190216T230000
TZNAME:BRT
TZOFFSETFROM:-0200
TZOFFSETTO:-0300
END:STANDARD
END:VTIMEZONE
END:VCALENDAR
