BEGIN:VCALENDAR
VERSION:2.0
PRODID:-//Plone.org//NONSGML plone.app.event//EN
X-WR-TIMEZONE:Brazil/East
BEGIN:VEVENT
SUMMARY:SESSÃO ESPECIAL EM COMEMORAÇÃO AO DIA NACIONAL DE COMBATE AO AB
 USO E À EXPLORAÇÃO SEXUAL DE CRIANÇAS E ADOLESCENTES.
DTSTART;TZID=Brazil/East;VALUE=DATE-TIME:20260518T190000
DTEND;TZID=Brazil/East;VALUE=DATE-TIME:20260518T220000
DTSTAMP;VALUE=DATE-TIME:20260424T071352Z
UID:c6551ac944b4438ca95234b972a5a95f@www.goiania.go.leg.br
CONTACT:VEREADOR FABRÍCIO ROSA
CREATED;VALUE=DATE-TIME:20260323T214345Z
LAST-MODIFIED;VALUE=DATE-TIME:20260323T214402Z
LOCATION:AUDITÓRIO CARLOS EURICO
URL:https://www.goiania.go.leg.br/sala-de-imprensa/eventos/sessao-especial
 -em-comemoracao-ao-dia-nacional-de-combate-ao-abuso-e-a-exploracao-sexual-
 de-criancas-e-adolescentes
END:VEVENT
BEGIN:VTIMEZONE
TZID:Brazil/East
X-LIC-LOCATION:Brazil/East
BEGIN:STANDARD
DTSTART;VALUE=DATE-TIME:20260221T230000
TZNAME:BRT
TZOFFSETFROM:-0200
TZOFFSETTO:-0300
END:STANDARD
END:VTIMEZONE
END:VCALENDAR
