BEGIN:VCALENDAR
VERSION:2.0
PRODID:-//Plone.org//NONSGML plone.app.event//EN
X-WR-TIMEZONE:Brazil/East
BEGIN:VEVENT
SUMMARY:SESSÃO ESPECIAL EM COMEMORAÇÃO AO DIA MUNICIPAL DO PROTETOR IND
 EPENDENTE DE ANIMAIS E AO DIA MUNDIAL DOS ANIMAIS.
DTSTART;TZID=Brazil/East;VALUE=DATE-TIME:20211004T090000
DTEND;TZID=Brazil/East;VALUE=DATE-TIME:20211004T120000
DTSTAMP;VALUE=DATE-TIME:20260420T144446Z
UID:729d89086da848408873faa20bab8eee@www.goiania.go.leg.br
CONTACT:VEREADORA LUCIULA DO RECANTO
CREATED;VALUE=DATE-TIME:20210928T122936Z
LAST-MODIFIED;VALUE=DATE-TIME:20210928T122949Z
LOCATION:PLENÁRIO TRAJANO GUIMARÃES
URL:https://www.goiania.go.leg.br/sala-de-imprensa/eventos/sessao-especial
 -em-comemoracao-ao-dia-municipal-do-protetor-independente-de-animais-e-ao-
 dia-mundial-dos-animais-1
END:VEVENT
BEGIN:VTIMEZONE
TZID:Brazil/East
X-LIC-LOCATION:Brazil/East
BEGIN:STANDARD
DTSTART;VALUE=DATE-TIME:20210220T230000
TZNAME:BRT
TZOFFSETFROM:-0200
TZOFFSETTO:-0300
END:STANDARD
END:VTIMEZONE
END:VCALENDAR
