BEGIN:VCALENDAR
VERSION:2.0
PRODID:-//Plone.org//NONSGML plone.app.event//EN
X-WR-TIMEZONE:Brazil/East
BEGIN:VEVENT
SUMMARY:SESSÃO ESPECIAL EM COMEMORAÇÃO AO DIA MUNDIAL DO EMPREENDEDORIS
 MO FEMININO.
DTSTART;TZID=Brazil/East;VALUE=DATE-TIME:20191120T193000
DTEND;TZID=Brazil/East;VALUE=DATE-TIME:20191120T220000
DTSTAMP;VALUE=DATE-TIME:20260421T224844Z
UID:133c7931fd974f18b76273e6b18b750e@www.goiania.go.leg.br
CONTACT:VEREADOR ANDREY AZEREDO
CREATED;VALUE=DATE-TIME:20191003T115901Z
LAST-MODIFIED;VALUE=DATE-TIME:20191003T120016Z
LOCATION:PLENÁRIO TRAJANO GUIMARÃES
URL:https://www.goiania.go.leg.br/sala-de-imprensa/eventos/sessao-especial
 -em-comemoracao-ao-dia-mundial-do-empreendedorismo-feminino
END:VEVENT
BEGIN:VTIMEZONE
TZID:Brazil/East
X-LIC-LOCATION:Brazil/East
BEGIN:DAYLIGHT
DTSTART;VALUE=DATE-TIME:20191020T010000
TZNAME:BRST
TZOFFSETFROM:-0300
TZOFFSETTO:-0200
END:DAYLIGHT
END:VTIMEZONE
END:VCALENDAR
