BEGIN:VCALENDAR
VERSION:2.0
PRODID:-//Plone.org//NONSGML plone.app.event//EN
X-WR-TIMEZONE:Brazil/East
BEGIN:VEVENT
SUMMARY:SESSÃO ESPECIAL EM COMEMORAÇÃO AO DIA INTERNACIONAL DA JUVENTUD
 E E MEDALHA DA COMENDA HONESTINO GUIMARÃES
DTSTART;TZID=Brazil/East;VALUE=DATE-TIME:20190806T193000
DTEND;TZID=Brazil/East;VALUE=DATE-TIME:20190806T220000
DTSTAMP;VALUE=DATE-TIME:20260424T082733Z
UID:705a6cf804a849969876b03f67b86a27@www.goiania.go.leg.br
CONTACT:VEREADOR EMILSON PEREIRA
CREATED;VALUE=DATE-TIME:20190605T115923Z
LAST-MODIFIED;VALUE=DATE-TIME:20190626T133943Z
LOCATION:PLENÁRIO TRAJANO GUIMARÃES
URL:https://www.goiania.go.leg.br/sala-de-imprensa/eventos/sessao-especial
 -em-comemoracao-ao-dia-internacional-da-juventude-e-medalha-da-comenda-hon
 estino-guimaraes
END:VEVENT
BEGIN:VTIMEZONE
TZID:Brazil/East
X-LIC-LOCATION:Brazil/East
BEGIN:STANDARD
DTSTART;VALUE=DATE-TIME:20190216T230000
TZNAME:BRT
TZOFFSETFROM:-0200
TZOFFSETTO:-0300
END:STANDARD
END:VTIMEZONE
END:VCALENDAR
