BEGIN:VCALENDAR
VERSION:2.0
PRODID:-//Plone.org//NONSGML plone.app.event//EN
X-WR-TIMEZONE:Brazil/East
BEGIN:VEVENT
SUMMARY:SESSÃO ESPECIAL EM COMEMORAÇÃO AO DIA DOS PSICÓLOGOS.
DTSTART;TZID=Brazil/East;VALUE=DATE-TIME:20180828T193000
DTEND;TZID=Brazil/East;VALUE=DATE-TIME:20180828T220000
DTSTAMP;VALUE=DATE-TIME:20260422T050348Z
UID:a6d938b12f4842bfbdd4d3a2f4b937d5@www.goiania.go.leg.br
CONTACT:VEREADOR EMILSON PEREIRA
CREATED;VALUE=DATE-TIME:20180807T124055Z
LAST-MODIFIED;VALUE=DATE-TIME:20180807T124103Z
LOCATION:PLENÁRIO TRAJANO GUIMARÃES
URL:https://www.goiania.go.leg.br/sala-de-imprensa/eventos/sessao-especial
 -em-comemoracao-ao-dia-dos-psicologos
END:VEVENT
BEGIN:VTIMEZONE
TZID:Brazil/East
X-LIC-LOCATION:Brazil/East
BEGIN:STANDARD
DTSTART;VALUE=DATE-TIME:20180217T230000
TZNAME:BRT
TZOFFSETFROM:-0200
TZOFFSETTO:-0300
END:STANDARD
END:VTIMEZONE
END:VCALENDAR
