BEGIN:VCALENDAR
VERSION:2.0
PRODID:-//Plone.org//NONSGML plone.app.event//EN
X-WR-TIMEZONE:Brazil/East
BEGIN:VEVENT
SUMMARY:SESSÃO ESPECIAL EM COMEMORAÇÃO AO DIA DO PROFISSIONAL DE EDUCA
 ÇÃO FÍSCIA.
DTSTART;TZID=Brazil/East;VALUE=DATE-TIME:20210901T170000
DTEND;TZID=Brazil/East;VALUE=DATE-TIME:20210901T180000
DTSTAMP;VALUE=DATE-TIME:20260424T083115Z
UID:df6afb9d7a944041858f8d5efc4b3c0e@www.goiania.go.leg.br
CONTACT:VEREADOR ANSELMO PEREIRA
CREATED;VALUE=DATE-TIME:20210218T115744Z
LAST-MODIFIED;VALUE=DATE-TIME:20210621T144218Z
LOCATION:PLENÁRIO TRAJANO GUIMARÃES
URL:https://www.goiania.go.leg.br/sala-de-imprensa/eventos/sessao-especial
 -em-comemoracao-ao-dia-do-profissional-de-educacao-fiscia
END:VEVENT
BEGIN:VTIMEZONE
TZID:Brazil/East
X-LIC-LOCATION:Brazil/East
BEGIN:STANDARD
DTSTART;VALUE=DATE-TIME:20210220T230000
TZNAME:BRT
TZOFFSETFROM:-0200
TZOFFSETTO:-0300
END:STANDARD
END:VTIMEZONE
END:VCALENDAR
