BEGIN:VCALENDAR
VERSION:2.0
PRODID:-//Plone.org//NONSGML plone.app.event//EN
X-WR-TIMEZONE:Brazil/East
BEGIN:VEVENT
SUMMARY:SESSÃO ESPECIAL EM COMEMORAÇÃO AO DIA DO MESTRE DE CERIMÔNIA E
  CEREMONIALISTA.
DTSTART;TZID=Brazil/East;VALUE=DATE-TIME:20210617T170000
DTEND;TZID=Brazil/East;VALUE=DATE-TIME:20210617T180000
DTSTAMP;VALUE=DATE-TIME:20260422T063024Z
UID:18237c00e9664a24ad2a646309c30bba@www.goiania.go.leg.br
CONTACT:VEREADOR ANSELMO PEREIRA
CREATED;VALUE=DATE-TIME:20210514T130237Z
LAST-MODIFIED;VALUE=DATE-TIME:20210616T115855Z
LOCATION:PLENÁRIO TRAJANO GUIMARÃES
URL:https://www.goiania.go.leg.br/sala-de-imprensa/eventos/sessao-especial
 -em-comemoracao-ao-dia-do-mestre-de-cerimonia-e-ceremonialista
END:VEVENT
BEGIN:VTIMEZONE
TZID:Brazil/East
X-LIC-LOCATION:Brazil/East
BEGIN:STANDARD
DTSTART;VALUE=DATE-TIME:20210220T230000
TZNAME:BRT
TZOFFSETFROM:-0200
TZOFFSETTO:-0300
END:STANDARD
END:VTIMEZONE
END:VCALENDAR
