BEGIN:VCALENDAR
VERSION:2.0
PRODID:-//Plone.org//NONSGML plone.app.event//EN
X-WR-TIMEZONE:Brazil/East
BEGIN:VEVENT
SUMMARY:SESSÃO ESPECIAL  EM COMEMORAÇÃO AO DIA DO LIONS CLUB.
DTSTART;TZID=Brazil/East;VALUE=DATE-TIME:20200416T193000
DTEND;TZID=Brazil/East;VALUE=DATE-TIME:20200416T220000
DTSTAMP;VALUE=DATE-TIME:20260421T152340Z
UID:051dac73ae044740b2c915222c7b0450@www.goiania.go.leg.br
CONTACT:VEREADOR ANSELMO PEREIRA
CREATED;VALUE=DATE-TIME:20200108T122526Z
LAST-MODIFIED;VALUE=DATE-TIME:20200108T123024Z
LOCATION:PLENÁRIO TRAJANO GUIMARÃES
URL:https://www.goiania.go.leg.br/sala-de-imprensa/eventos/sessao-especial
 -em-comemoracao-ao-dia-do-lions-club-1
END:VEVENT
BEGIN:VTIMEZONE
TZID:Brazil/East
X-LIC-LOCATION:Brazil/East
BEGIN:STANDARD
DTSTART;VALUE=DATE-TIME:20200215T230000
TZNAME:BRT
TZOFFSETFROM:-0200
TZOFFSETTO:-0300
END:STANDARD
END:VTIMEZONE
END:VCALENDAR
