BEGIN:VCALENDAR
VERSION:2.0
PRODID:-//Plone.org//NONSGML plone.app.event//EN
X-WR-TIMEZONE:Brazil/East
BEGIN:VEVENT
SUMMARY:SESSÃO ESPECIAL EM COMEMORAÇÃO AO MÊS DO IDOSO - RESPEITAR E P
 ROTEGER.
DTSTART;TZID=Brazil/East;VALUE=DATE-TIME:20251002T170000
DTEND;TZID=Brazil/East;VALUE=DATE-TIME:20251002T190000
DTSTAMP;VALUE=DATE-TIME:20260420T021142Z
UID:4402b0ed893e49a9ae81b3099d27c7ef@www.goiania.go.leg.br
CONTACT:VEREADORA DANIELA DA GILKA
CREATED;VALUE=DATE-TIME:20250924T104352Z
LAST-MODIFIED;VALUE=DATE-TIME:20250924T141548Z
LOCATION:PLENÁRIO TRAJANO GUIMARÃES
URL:https://www.goiania.go.leg.br/sala-de-imprensa/eventos/sessao-especial
 -em-comemoracao-ao-dia-do-idoso
END:VEVENT
BEGIN:VTIMEZONE
TZID:Brazil/East
X-LIC-LOCATION:Brazil/East
BEGIN:STANDARD
DTSTART;VALUE=DATE-TIME:20250215T230000
TZNAME:BRT
TZOFFSETFROM:-0200
TZOFFSETTO:-0300
END:STANDARD
END:VTIMEZONE
END:VCALENDAR
