BEGIN:VCALENDAR
VERSION:2.0
PRODID:-//Plone.org//NONSGML plone.app.event//EN
X-WR-TIMEZONE:Brazil/East
BEGIN:VEVENT
SUMMARY:SESSÃO ESPECIAL EM COMEMORAÇÃO AO DIA DO FUNCIONÁRIO PÚBLICO 
 MUNICIPAL.
DTSTART;TZID=Brazil/East;VALUE=DATE-TIME:20220928T170000
DTEND;TZID=Brazil/East;VALUE=DATE-TIME:20220928T190000
DTSTAMP;VALUE=DATE-TIME:20260422T155656Z
UID:d99710f46fb44c35b0edd91715118539@www.goiania.go.leg.br
CONTACT:VEREADOR GEVERSON ABEL
CREATED;VALUE=DATE-TIME:20220321T220716Z
LAST-MODIFIED;VALUE=DATE-TIME:20220321T220723Z
LOCATION:PLENÁRIO TRAJANO GUIMARÃES
URL:https://www.goiania.go.leg.br/sala-de-imprensa/eventos/sessao-especial
 -em-comemoracao-ao-dia-do-funcionario-publico-municipal
END:VEVENT
BEGIN:VTIMEZONE
TZID:Brazil/East
X-LIC-LOCATION:Brazil/East
BEGIN:STANDARD
DTSTART;VALUE=DATE-TIME:20220219T230000
TZNAME:BRT
TZOFFSETFROM:-0200
TZOFFSETTO:-0300
END:STANDARD
END:VTIMEZONE
END:VCALENDAR
