BEGIN:VCALENDAR
VERSION:2.0
PRODID:-//Plone.org//NONSGML plone.app.event//EN
X-WR-TIMEZONE:Brazil/East
BEGIN:VEVENT
SUMMARY:SESSÃO ESPECIAL EM COMEMORAÇÃO AO DIA DO BOMBEIRO E OUTORGA DA 
 MEDALHA  GEOVANE SILVA FONSECA.
DTSTART;TZID=Brazil/East;VALUE=DATE-TIME:20210630T170000
DTEND;TZID=Brazil/East;VALUE=DATE-TIME:20210630T180000
DTSTAMP;VALUE=DATE-TIME:20260420T202105Z
UID:84127e31d3a94b06aff7c0f268bde8e2@www.goiania.go.leg.br
CONTACT:VEREADOR CABO SENNA
CREATED;VALUE=DATE-TIME:20210205T124816Z
LAST-MODIFIED;VALUE=DATE-TIME:20210514T133614Z
LOCATION:PLENÁRIO TRAJANO GUIMARÃES
URL:https://www.goiania.go.leg.br/sala-de-imprensa/eventos/sessao-especial
 -em-comemoracao-ao-dia-do-bombeiro-e-outorga-da-medalha-geovane-silva-fons
 eca
END:VEVENT
BEGIN:VTIMEZONE
TZID:Brazil/East
X-LIC-LOCATION:Brazil/East
BEGIN:STANDARD
DTSTART;VALUE=DATE-TIME:20210220T230000
TZNAME:BRT
TZOFFSETFROM:-0200
TZOFFSETTO:-0300
END:STANDARD
END:VTIMEZONE
END:VCALENDAR
