BEGIN:VCALENDAR
VERSION:2.0
PRODID:-//Plone.org//NONSGML plone.app.event//EN
X-WR-TIMEZONE:Brazil/East
BEGIN:VEVENT
SUMMARY:SESSÃO ESPECIAL EM COMEMORAÇÃO AO DIA DO AGENTE DE TRÂNSITO.
DTSTART;TZID=Brazil/East;VALUE=DATE-TIME:20210922T170000
DTEND;TZID=Brazil/East;VALUE=DATE-TIME:20210922T180000
DTSTAMP;VALUE=DATE-TIME:20260424T111320Z
UID:30e1748567bb490f89dd5c179916d9f7@www.goiania.go.leg.br
CONTACT:VEREADOR ANSELMO PEREIRA
CREATED;VALUE=DATE-TIME:20210218T140223Z
LAST-MODIFIED;VALUE=DATE-TIME:20210622T102000Z
LOCATION:PLENÁRIO TRAJANO GUIMARÃES
URL:https://www.goiania.go.leg.br/sala-de-imprensa/eventos/sessao-especial
 -em-comemoracao-ao-dia-do-agente-de-transito
END:VEVENT
BEGIN:VTIMEZONE
TZID:Brazil/East
X-LIC-LOCATION:Brazil/East
BEGIN:STANDARD
DTSTART;VALUE=DATE-TIME:20210220T230000
TZNAME:BRT
TZOFFSETFROM:-0200
TZOFFSETTO:-0300
END:STANDARD
END:VTIMEZONE
END:VCALENDAR
