BEGIN:VCALENDAR
VERSION:2.0
PRODID:-//Plone.org//NONSGML plone.app.event//EN
X-WR-TIMEZONE:Brazil/East
BEGIN:VEVENT
SUMMARY:SESSÃO ESPECIAL EM COMEMORAÇÃO AO DIA DO ADMINISTRADOR.
DTSTART;TZID=Brazil/East;VALUE=DATE-TIME:20180905T193000
DTEND;TZID=Brazil/East;VALUE=DATE-TIME:20180905T220000
DTSTAMP;VALUE=DATE-TIME:20260424T065932Z
UID:28a2193158444089a6716e4513a4e79a@www.goiania.go.leg.br
CONTACT:VEREADOR WELINGTON PEIXOTO
CREATED;VALUE=DATE-TIME:20180903T102454Z
LAST-MODIFIED;VALUE=DATE-TIME:20180903T102501Z
LOCATION:PLENÁRIO TRAJANO GUIMARÃES
URL:https://www.goiania.go.leg.br/sala-de-imprensa/eventos/sessao-especial
 -em-comemoracao-ao-dia-do-administrador
END:VEVENT
BEGIN:VTIMEZONE
TZID:Brazil/East
X-LIC-LOCATION:Brazil/East
BEGIN:STANDARD
DTSTART;VALUE=DATE-TIME:20180217T230000
TZNAME:BRT
TZOFFSETFROM:-0200
TZOFFSETTO:-0300
END:STANDARD
END:VTIMEZONE
END:VCALENDAR
