BEGIN:VCALENDAR
VERSION:2.0
PRODID:-//Plone.org//NONSGML plone.app.event//EN
X-WR-TIMEZONE:Brazil/East
BEGIN:VEVENT
SUMMARY:SESSÃO ESPECIAL EM COMEMORAÇÃO AO DIA DAS MÃES DA CÂMARA.
DTSTART;TZID=Brazil/East;VALUE=DATE-TIME:20220512T090000
DTEND;TZID=Brazil/East;VALUE=DATE-TIME:20220512T120000
DTSTAMP;VALUE=DATE-TIME:20260424T070014Z
UID:35175129bfe84a57b4931bdab7aa3110@www.goiania.go.leg.br
CONTACT:VEREADOR ROMÁRIO POLICARPO
CREATED;VALUE=DATE-TIME:20220331T151727Z
LAST-MODIFIED;VALUE=DATE-TIME:20220331T151810Z
LOCATION:PLENÁRIO TRAJANO GUIMARÃES
URL:https://www.goiania.go.leg.br/sala-de-imprensa/eventos/sessao-especial
 -em-comemoracao-ao-dia-das-maes-da-camara
END:VEVENT
BEGIN:VTIMEZONE
TZID:Brazil/East
X-LIC-LOCATION:Brazil/East
BEGIN:STANDARD
DTSTART;VALUE=DATE-TIME:20220219T230000
TZNAME:BRT
TZOFFSETFROM:-0200
TZOFFSETTO:-0300
END:STANDARD
END:VTIMEZONE
END:VCALENDAR
