BEGIN:VCALENDAR
VERSION:2.0
PRODID:-//Plone.org//NONSGML plone.app.event//EN
X-WR-TIMEZONE:Brazil/East
BEGIN:VEVENT
SUMMARY:SESSÃO ESPECIAL EM COMEMORAÇÃO AO DIA DA MARINHA.
DTSTART;TZID=Brazil/East;VALUE=DATE-TIME:20250617T190000
DTEND;TZID=Brazil/East;VALUE=DATE-TIME:20250617T220000
DTSTAMP;VALUE=DATE-TIME:20260419T162048Z
UID:4b338c5993924b06aa4abc23ca119b30@www.goiania.go.leg.br
CONTACT:VEREADOR VITOR HUGO
CREATED;VALUE=DATE-TIME:20250410T121643Z
LAST-MODIFIED;VALUE=DATE-TIME:20250410T121703Z
LOCATION:AUDITÓRIO JAIME CÂMARA
URL:https://www.goiania.go.leg.br/sala-de-imprensa/eventos/sessao-especial
 -em-comemoracao-ao-dia-da-marinha
END:VEVENT
BEGIN:VTIMEZONE
TZID:Brazil/East
X-LIC-LOCATION:Brazil/East
BEGIN:STANDARD
DTSTART;VALUE=DATE-TIME:20250215T230000
TZNAME:BRT
TZOFFSETFROM:-0200
TZOFFSETTO:-0300
END:STANDARD
END:VTIMEZONE
END:VCALENDAR
