BEGIN:VCALENDAR
VERSION:2.0
PRODID:-//Plone.org//NONSGML plone.app.event//EN
X-WR-TIMEZONE:Brazil/East
BEGIN:VEVENT
SUMMARY:SESSÃO ESPECIAL EM COMEMORAÇÃO AO DIA DA CONSCIÊNCIA NEGRA.
DTSTART;TZID=Brazil/East;VALUE=DATE-TIME:20221118T090000
DTEND;TZID=Brazil/East;VALUE=DATE-TIME:20221118T100000
DTSTAMP;VALUE=DATE-TIME:20260425T082506Z
UID:10fdcca6372746008dd3bb556ab77fec@www.goiania.go.leg.br
CONTACT:VEREADOR MAURO RUBEM
CREATED;VALUE=DATE-TIME:20220929T130046Z
LAST-MODIFIED;VALUE=DATE-TIME:20221027T174027Z
LOCATION:PLENÁRIO TRAJANO GUIMARÃES
URL:https://www.goiania.go.leg.br/sala-de-imprensa/eventos/sessao-especial
 -em-comemoracao-ao-dia-da-consciencia-negra
END:VEVENT
BEGIN:VTIMEZONE
TZID:Brazil/East
X-LIC-LOCATION:Brazil/East
BEGIN:DAYLIGHT
DTSTART;VALUE=DATE-TIME:20221016T010000
TZNAME:BRST
TZOFFSETFROM:-0300
TZOFFSETTO:-0200
END:DAYLIGHT
END:VTIMEZONE
END:VCALENDAR
