BEGIN:VCALENDAR
VERSION:2.0
PRODID:-//Plone.org//NONSGML plone.app.event//EN
X-WR-TIMEZONE:Brazil/East
BEGIN:VEVENT
SUMMARY:SESSÃO ESPECIAL EM COMEMORAÇÃO AO ANIVERSÁRIO DO SETOR VILA PE
 DROSO.
DTSTART;TZID=Brazil/East;VALUE=DATE-TIME:20230507T090000
DTEND;TZID=Brazil/East;VALUE=DATE-TIME:20230507T120000
DTSTAMP;VALUE=DATE-TIME:20260420T201617Z
UID:0651b3833ce9428f943cba60720ceb96@www.goiania.go.leg.br
CONTACT:VEREADOR RAPAHEL DA SAÚDE
CREATED;VALUE=DATE-TIME:20230411T121657Z
LAST-MODIFIED;VALUE=DATE-TIME:20230411T121707Z
LOCATION:FORA DA CÂMARA
URL:https://www.goiania.go.leg.br/sala-de-imprensa/eventos/sessao-especial
 -em-comemoracao-ao-aniversario-do-setor-vila-pedroso
END:VEVENT
BEGIN:VTIMEZONE
TZID:Brazil/East
X-LIC-LOCATION:Brazil/East
BEGIN:STANDARD
DTSTART;VALUE=DATE-TIME:20230225T230000
TZNAME:BRT
TZOFFSETFROM:-0200
TZOFFSETTO:-0300
END:STANDARD
END:VTIMEZONE
END:VCALENDAR
