BEGIN:VCALENDAR
VERSION:2.0
PRODID:-//Plone.org//NONSGML plone.app.event//EN
X-WR-TIMEZONE:Brazil/East
BEGIN:VEVENT
SUMMARY:SESSÃO ESPECIAL EM COMEMORAÇÃO AO ANIVERSÁRIO DO CONJUNTO HABI
 TACIONAL VILA ITATIAIA.
DTSTART;TZID=Brazil/East;VALUE=DATE-TIME:20200311T193000
DTEND;TZID=Brazil/East;VALUE=DATE-TIME:20200311T220000
DTSTAMP;VALUE=DATE-TIME:20260421T095719Z
UID:c8650e032f8747aa9c1cb368dc8890c0@www.goiania.go.leg.br
CONTACT:VEREADOR CABO SENNA
CREATED;VALUE=DATE-TIME:20200210T132212Z
LAST-MODIFIED;VALUE=DATE-TIME:20200210T132408Z
LOCATION:PLENÁRIO TRAJANO GUIMARÃES
URL:https://www.goiania.go.leg.br/sala-de-imprensa/eventos/sessao-especial
 -em-comemoracao-ao-aniversario-do-conjunto-habitacional-vila-itatiaia
END:VEVENT
BEGIN:VTIMEZONE
TZID:Brazil/East
X-LIC-LOCATION:Brazil/East
BEGIN:STANDARD
DTSTART;VALUE=DATE-TIME:20200215T230000
TZNAME:BRT
TZOFFSETFROM:-0200
TZOFFSETTO:-0300
END:STANDARD
END:VTIMEZONE
END:VCALENDAR
