BEGIN:VCALENDAR
VERSION:2.0
PRODID:-//Plone.org//NONSGML plone.app.event//EN
X-WR-TIMEZONE:Brazil/East
BEGIN:VEVENT
SUMMARY:SESSÃO ESPECIAL EM COMEMORAÇÃO AO ANIVERSÁRIO DE 17 ANOS DA FA
 CUNICAMPS.
DTSTART;TZID=Brazil/East;VALUE=DATE-TIME:20230911T170000
DTEND;TZID=Brazil/East;VALUE=DATE-TIME:20230911T190000
DTSTAMP;VALUE=DATE-TIME:20260422T195958Z
UID:450bcdcf7afb488093ce59d6e048d025@www.goiania.go.leg.br
CONTACT:VEREADOR RONILSON REIS
CREATED;VALUE=DATE-TIME:20230807T121446Z
LAST-MODIFIED;VALUE=DATE-TIME:20230807T121538Z
LOCATION:PLENÁRIO TRAJANO GUIMARÃES
URL:https://www.goiania.go.leg.br/sala-de-imprensa/eventos/sessao-especial
 -em-comemoracao-ao-aniversario-de-17-anos-da-facunicamps
END:VEVENT
BEGIN:VTIMEZONE
TZID:Brazil/East
X-LIC-LOCATION:Brazil/East
BEGIN:STANDARD
DTSTART;VALUE=DATE-TIME:20230225T230000
TZNAME:BRT
TZOFFSETFROM:-0200
TZOFFSETTO:-0300
END:STANDARD
END:VTIMEZONE
END:VCALENDAR
