BEGIN:VCALENDAR
VERSION:2.0
PRODID:-//Plone.org//NONSGML plone.app.event//EN
X-WR-TIMEZONE:Brazil/East
BEGIN:VEVENT
SUMMARY:SEMINÁRIO EM COMEMORAÇÃO À SEMANA NACIONAL DA PESSOA COM DEFIC
 IÊNCIA INTECTUAL E MÚLTIPLA.
DTSTART;TZID=Brazil/East;VALUE=DATE-TIME:20190828T193000
DTEND;TZID=Brazil/East;VALUE=DATE-TIME:20190828T220000
DTSTAMP;VALUE=DATE-TIME:20260422T074541Z
UID:c80659518c2e42c9b97aa240def5dbe5@www.goiania.go.leg.br
CONTACT:VEREADOR ÁLVARO DA UNIVERSO
CREATED;VALUE=DATE-TIME:20190801T110547Z
LAST-MODIFIED;VALUE=DATE-TIME:20190813T144607Z
LOCATION:AUDITÓRIO JAIME CÂMARA
URL:https://www.goiania.go.leg.br/sala-de-imprensa/eventos/sessao-especial
 -em-comemoracao-a-semana-nacional-da-pessoa-com-deficiencia-intectual-e-mu
 ltipla
END:VEVENT
BEGIN:VTIMEZONE
TZID:Brazil/East
X-LIC-LOCATION:Brazil/East
BEGIN:STANDARD
DTSTART;VALUE=DATE-TIME:20190216T230000
TZNAME:BRT
TZOFFSETFROM:-0200
TZOFFSETTO:-0300
END:STANDARD
END:VTIMEZONE
END:VCALENDAR
