BEGIN:VCALENDAR
VERSION:2.0
PRODID:-//Plone.org//NONSGML plone.app.event//EN
X-WR-TIMEZONE:Brazil/East
BEGIN:VEVENT
SUMMARY:SESSÃO ESPECIAL EM COMEMORAÇÃO À SEMANA DO COOPERATIVISMO.
DTSTART;TZID=Brazil/East;VALUE=DATE-TIME:20230627T170000
DTEND;TZID=Brazil/East;VALUE=DATE-TIME:20230627T190000
DTSTAMP;VALUE=DATE-TIME:20260420T024253Z
UID:0abb8f43605b401eb7227bd3a176b638@www.goiania.go.leg.br
CONTACT:VEREADOR DENÍCIO TRINDADE
CREATED;VALUE=DATE-TIME:20230419T200635Z
LAST-MODIFIED;VALUE=DATE-TIME:20230516T114315Z
LOCATION:PLENÁRIO TRAJANO GUIMARÃES
URL:https://www.goiania.go.leg.br/sala-de-imprensa/eventos/sessao-especial
 -em-comemoracao-a-semana-do-cooperativismo
END:VEVENT
BEGIN:VTIMEZONE
TZID:Brazil/East
X-LIC-LOCATION:Brazil/East
BEGIN:STANDARD
DTSTART;VALUE=DATE-TIME:20230225T230000
TZNAME:BRT
TZOFFSETFROM:-0200
TZOFFSETTO:-0300
END:STANDARD
END:VTIMEZONE
END:VCALENDAR
