BEGIN:VCALENDAR
VERSION:2.0
PRODID:-//Plone.org//NONSGML plone.app.event//EN
X-WR-TIMEZONE:Brazil/East
BEGIN:VEVENT
SUMMARY:SESSÃO ESPECIAL EM COMEMORAÇÃO AO DIA INTERNACIONAL DA MULHER
DTSTART;TZID=Brazil/East;VALUE=DATE-TIME:20230308T103000
DTEND;TZID=Brazil/East;VALUE=DATE-TIME:20230308T120000
DTSTAMP;VALUE=DATE-TIME:20260421T080844Z
UID:e99591bf859645f98ad8109cb5dca75a@www.goiania.go.leg.br
CONTACT:VEREADORA LÉIA KLEBIA - AAVA SANTIAGO - KÁTIA MARIA -  LUCIULA D
 O RECANTO  E SABRINA GARCEZ
CREATED;VALUE=DATE-TIME:20230208T123132Z
LAST-MODIFIED;VALUE=DATE-TIME:20230307T113726Z
LOCATION:PLENÁRIO TRAJANO GUIMARÃES
URL:https://www.goiania.go.leg.br/sala-de-imprensa/eventos/sessao-especial
 -denominada-mulheres-de-expressao-1
END:VEVENT
BEGIN:VTIMEZONE
TZID:Brazil/East
X-LIC-LOCATION:Brazil/East
BEGIN:STANDARD
DTSTART;VALUE=DATE-TIME:20230225T230000
TZNAME:BRT
TZOFFSETFROM:-0200
TZOFFSETTO:-0300
END:STANDARD
END:VTIMEZONE
END:VCALENDAR
