BEGIN:VCALENDAR
VERSION:2.0
PRODID:-//Plone.org//NONSGML plone.app.event//EN
X-WR-TIMEZONE:Brazil/East
BEGIN:VEVENT
SUMMARY:SESSÃO ESPECIAL DENOMINADA "DIA DO EMPREENDEDOR".
DTSTART;TZID=Brazil/East;VALUE=DATE-TIME:20231004T190000
DTEND;TZID=Brazil/East;VALUE=DATE-TIME:20231004T220000
DTSTAMP;VALUE=DATE-TIME:20260421T072850Z
UID:6bf9af0df70c4924903d8b30d5d4076b@www.goiania.go.leg.br
CONTACT:VEREADORA LÉIA KLEBIA - LEANDRO SENA\, EDGAR DUARTE E LUCAS KITÃ
 O
CREATED;VALUE=DATE-TIME:20230208T105133Z
LAST-MODIFIED;VALUE=DATE-TIME:20230918T114552Z
LOCATION:PLENÁRIO TRAJANO GUIMARÃES
URL:https://www.goiania.go.leg.br/sala-de-imprensa/eventos/sessao-especial
 -denominada-dia-do-empreendedor
END:VEVENT
BEGIN:VTIMEZONE
TZID:Brazil/East
X-LIC-LOCATION:Brazil/East
BEGIN:STANDARD
DTSTART;VALUE=DATE-TIME:20230225T230000
TZNAME:BRT
TZOFFSETFROM:-0200
TZOFFSETTO:-0300
END:STANDARD
END:VTIMEZONE
END:VCALENDAR
