BEGIN:VCALENDAR
VERSION:2.0
PRODID:-//Plone.org//NONSGML plone.app.event//EN
X-WR-TIMEZONE:Brazil/East
BEGIN:VEVENT
SUMMARY:SESSÃO ESPECIAL DE MOÇÃO DE APLAUSOS AOS MILITARES CABO LEONARD
 O E SOLDADO KALLEBE.
DTSTART;TZID=Brazil/East;VALUE=DATE-TIME:20200319T100000
DTEND;TZID=Brazil/East;VALUE=DATE-TIME:20200319T120000
DTSTAMP;VALUE=DATE-TIME:20260421T070547Z
UID:dbe18978dfec47db97e2650a78af93f7@www.goiania.go.leg.br
CONTACT:VEREADOR CABO SENNA
CREATED;VALUE=DATE-TIME:20200304T131602Z
LAST-MODIFIED;VALUE=DATE-TIME:20200304T131619Z
LOCATION:PLENÁRIO TRAJANO GUIMARÃES
URL:https://www.goiania.go.leg.br/sala-de-imprensa/eventos/sessao-especial
 -de-mocao-de-aplausos-aos-militares-cabo-leonardo-e-soldado-kallebe
END:VEVENT
BEGIN:VTIMEZONE
TZID:Brazil/East
X-LIC-LOCATION:Brazil/East
BEGIN:STANDARD
DTSTART;VALUE=DATE-TIME:20200215T230000
TZNAME:BRT
TZOFFSETFROM:-0200
TZOFFSETTO:-0300
END:STANDARD
END:VTIMEZONE
END:VCALENDAR
