BEGIN:VCALENDAR
VERSION:2.0
PRODID:-//Plone.org//NONSGML plone.app.event//EN
X-WR-TIMEZONE:Brazil/East
BEGIN:VEVENT
SUMMARY:SESSÃO ESPECIAL  DE MOÇÃO DE APLAUSOS AO PASTOR RENAN SOUSA DA 
 SILVA.
DTSTART;TZID=Brazil/East;VALUE=DATE-TIME:20240620T100000
DTEND;TZID=Brazil/East;VALUE=DATE-TIME:20240620T120000
DTSTAMP;VALUE=DATE-TIME:20260423T115208Z
UID:f78fc1d6341d42c182e7c0cba6cc0634@www.goiania.go.leg.br
CONTACT:VEREADOR PEDRO AZULÃO JR.
CREATED;VALUE=DATE-TIME:20240612T141558Z
LAST-MODIFIED;VALUE=DATE-TIME:20240612T141652Z
LOCATION:PLENÁRIO TRAJANO GUIMARÃES
URL:https://www.goiania.go.leg.br/sala-de-imprensa/eventos/sessao-especial
 -de-mocao-de-aplausos-ao-pastor-renan-sousa-da-silva
END:VEVENT
BEGIN:VTIMEZONE
TZID:Brazil/East
X-LIC-LOCATION:Brazil/East
BEGIN:STANDARD
DTSTART;VALUE=DATE-TIME:20240217T230000
TZNAME:BRT
TZOFFSETFROM:-0200
TZOFFSETTO:-0300
END:STANDARD
END:VTIMEZONE
END:VCALENDAR
