BEGIN:VCALENDAR
VERSION:2.0
PRODID:-//Plone.org//NONSGML plone.app.event//EN
X-WR-TIMEZONE:Brazil/East
BEGIN:VEVENT
SUMMARY:SESSÃO ESPECIAL DE MOÇÃO DE APLAUSO E RECONHECIMENTO AOS AGENTE
 S PENITENCIÁRIOS.
DTSTART;TZID=Brazil/East;VALUE=DATE-TIME:20190417T100000
DTEND;TZID=Brazil/East;VALUE=DATE-TIME:20190417T120000
DTSTAMP;VALUE=DATE-TIME:20260424T135814Z
UID:2c119b27d00a4f2baf591f7cac1ac888@www.goiania.go.leg.br
CONTACT:VEREADOR ROGÉRIO CRUZ
CREATED;VALUE=DATE-TIME:20190403T223402Z
LAST-MODIFIED;VALUE=DATE-TIME:20190405T102554Z
LOCATION:PLENÁRIO TRAJANO GUJIMARÃES
URL:https://www.goiania.go.leg.br/sala-de-imprensa/eventos/sessao-especial
 -de-mocao-de-aplauso-e-reconhecimento-aos-agentes-penitenciarios
END:VEVENT
BEGIN:VTIMEZONE
TZID:Brazil/East
X-LIC-LOCATION:Brazil/East
BEGIN:STANDARD
DTSTART;VALUE=DATE-TIME:20190216T230000
TZNAME:BRT
TZOFFSETFROM:-0200
TZOFFSETTO:-0300
END:STANDARD
END:VTIMEZONE
END:VCALENDAR
