BEGIN:VCALENDAR
VERSION:2.0
PRODID:-//Plone.org//NONSGML plone.app.event//EN
X-WR-TIMEZONE:Brazil/East
BEGIN:VEVENT
SUMMARY:SESSÃO ESPECIAL DE HOMENAGEM ÀS ONGS DE PROTEÇÃO ANIMAL E AOS 
 PROTETORES INDEPENDENTES.
DTSTART;TZID=Brazil/East;VALUE=DATE-TIME:20170821T193000
DTEND;TZID=Brazil/East;VALUE=DATE-TIME:20170821T220000
DTSTAMP;VALUE=DATE-TIME:20260424T135816Z
UID:94c6d4c1900c43e69158278a198390f6@www.goiania.go.leg.br
CONTACT:VEREADORA PRISCILLA TEJOTA
CREATED;VALUE=DATE-TIME:20171208T111313Z
LAST-MODIFIED;VALUE=DATE-TIME:20171208T112937Z
LOCATION:PLENÁRIO TRAJANO GUIMARÃES
URL:https://www.goiania.go.leg.br/sala-de-imprensa/eventos/sessao-especial
 -de-homenagem-as-ongs-de-protecao-animal-e-aos-protetores-independentes
END:VEVENT
BEGIN:VTIMEZONE
TZID:Brazil/East
X-LIC-LOCATION:Brazil/East
BEGIN:STANDARD
DTSTART;VALUE=DATE-TIME:20170218T230000
TZNAME:BRT
TZOFFSETFROM:-0200
TZOFFSETTO:-0300
END:STANDARD
END:VTIMEZONE
END:VCALENDAR
