BEGIN:VCALENDAR
VERSION:2.0
PRODID:-//Plone.org//NONSGML plone.app.event//EN
X-WR-TIMEZONE:Brazil/East
BEGIN:VEVENT
SUMMARY:AUDIÊNCIA PÚBLICA COM O OBJETIVO DE DEBATER AS POLÍTICAS VOLTAD
 A PARA O ENFRENTAMENTO DA VIOLÊNCIA CONTRA A MULHER.
DTSTART;TZID=Brazil/East;VALUE=DATE-TIME:20250930T140000
DTEND;TZID=Brazil/East;VALUE=DATE-TIME:20250930T170000
DTSTAMP;VALUE=DATE-TIME:20260419T105409Z
UID:49a72d346ace45d79c76ea4b4e2fa332@www.goiania.go.leg.br
CONTACT:VEREADOR MAJOR VITOR HUGO
CREATED;VALUE=DATE-TIME:20250821T143705Z
LAST-MODIFIED;VALUE=DATE-TIME:20250904T123237Z
LOCATION:PLENÁRIO TRAJANO GUIMARÃES
URL:https://www.goiania.go.leg.br/sala-de-imprensa/eventos/sessao-especial
 -com-o-objetivo-de-debater-as-politicas-voltada-para-o-enfrentamento-da-vi
 olencia-contra-a-mulher
END:VEVENT
BEGIN:VTIMEZONE
TZID:Brazil/East
X-LIC-LOCATION:Brazil/East
BEGIN:STANDARD
DTSTART;VALUE=DATE-TIME:20250215T230000
TZNAME:BRT
TZOFFSETFROM:-0200
TZOFFSETTO:-0300
END:STANDARD
END:VTIMEZONE
END:VCALENDAR
