BEGIN:VCALENDAR
VERSION:2.0
PRODID:-//Plone.org//NONSGML plone.app.event//EN
X-WR-TIMEZONE:Brazil/East
BEGIN:VEVENT
SUMMARY:SESSÃO ESPECIAL AO DIA DO PRODUTOR RURAL.
DTSTART;TZID=Brazil/East;VALUE=DATE-TIME:20190708T193000
DTEND;TZID=Brazil/East;VALUE=DATE-TIME:20190708T220000
DTSTAMP;VALUE=DATE-TIME:20260424T152221Z
UID:61548f6f70834071881c6127991a9f42@www.goiania.go.leg.br
CONTACT:VEREADOR DR. PAULO  DAHER
CREATED;VALUE=DATE-TIME:20190208T132443Z
LAST-MODIFIED;VALUE=DATE-TIME:20190208T132451Z
LOCATION:PLENÁRIO TRAJANO GUIMARÃES
URL:https://www.goiania.go.leg.br/sala-de-imprensa/eventos/sessao-especial
 -ao-dia-do-produtor-rural
END:VEVENT
BEGIN:VTIMEZONE
TZID:Brazil/East
X-LIC-LOCATION:Brazil/East
BEGIN:STANDARD
DTSTART;VALUE=DATE-TIME:20190216T230000
TZNAME:BRT
TZOFFSETFROM:-0200
TZOFFSETTO:-0300
END:STANDARD
END:VTIMEZONE
END:VCALENDAR
