BEGIN:VCALENDAR
VERSION:2.0
PRODID:-//Plone.org//NONSGML plone.app.event//EN
X-WR-TIMEZONE:Brazil/East
BEGIN:VEVENT
SUMMARY:SESSÃO ESPECIAL ALUSIVA AOS 75 ANOS DE FUNDAÇÃO DO VILA NOVA FU
 TEBOL CLUBE.
DTSTART;TZID=Brazil/East;VALUE=DATE-TIME:20180809T193000
DTEND;TZID=Brazil/East;VALUE=DATE-TIME:20180809T220000
DTSTAMP;VALUE=DATE-TIME:20260424T164538Z
UID:7816e7651f044c42ba447e15d96676fe@www.goiania.go.leg.br
CONTACT:VEREADOR VINICIUS CIRQUEIRA
CREATED;VALUE=DATE-TIME:20180409T115652Z
LAST-MODIFIED;VALUE=DATE-TIME:20180409T115712Z
LOCATION:PLENÁRIO TRAJANO GUIMARÃES
URL:https://www.goiania.go.leg.br/sala-de-imprensa/eventos/sessao-especial
 -alusiva-aos-75-anos-de-fundacao-do-vila-nova-futebol-clube
END:VEVENT
BEGIN:VTIMEZONE
TZID:Brazil/East
X-LIC-LOCATION:Brazil/East
BEGIN:STANDARD
DTSTART;VALUE=DATE-TIME:20180217T230000
TZNAME:BRT
TZOFFSETFROM:-0200
TZOFFSETTO:-0300
END:STANDARD
END:VTIMEZONE
END:VCALENDAR
