BEGIN:VCALENDAR
VERSION:2.0
PRODID:-//Plone.org//NONSGML plone.app.event//EN
X-WR-TIMEZONE:Brazil/East
BEGIN:VEVENT
SUMMARY:SESSÃO DE HOMENAGEM AOS 159 ANOS DA POLÍCIA MILITAR E A MEDALHA 
 FRANCISCO JANUÁRIO DA GAMA  CERQUEIRA.
DTSTART;TZID=Brazil/East;VALUE=DATE-TIME:20170815T193000
DTEND;TZID=Brazil/East;VALUE=DATE-TIME:20170815T220000
DTSTAMP;VALUE=DATE-TIME:20260424T164536Z
UID:22c1b9a99f584f2ebd1aa14c61bee9ba@www.goiania.go.leg.br
CONTACT:VEREADOR ANSELMO PEREIRA E VER. CABO SENNA
CREATED;VALUE=DATE-TIME:20171208T111313Z
LAST-MODIFIED;VALUE=DATE-TIME:20171208T112936Z
LOCATION:PLENÁRIO TRAJANO GUIMARÃES
URL:https://www.goiania.go.leg.br/sala-de-imprensa/eventos/sessao-de-homen
 agem-aos-159-anos-da-policia-militar-e-a-medalha-francisco-januario-da-gam
 a-cerqueira
END:VEVENT
BEGIN:VTIMEZONE
TZID:Brazil/East
X-LIC-LOCATION:Brazil/East
BEGIN:STANDARD
DTSTART;VALUE=DATE-TIME:20170218T230000
TZNAME:BRT
TZOFFSETFROM:-0200
TZOFFSETTO:-0300
END:STANDARD
END:VTIMEZONE
END:VCALENDAR
