BEGIN:VCALENDAR
VERSION:2.0
PRODID:-//Plone.org//NONSGML plone.app.event//EN
X-WR-TIMEZONE:Brazil/East
BEGIN:VEVENT
SUMMARY:SESSÃO COMEMORATIVA PELOS 48 ANOS DA IGREJA UNIVERSAL DO REINO DE
  DEUS.
DTSTART;TZID=Brazil/East;VALUE=DATE-TIME:20250708T180000
DTEND;TZID=Brazil/East;VALUE=DATE-TIME:20250708T210000
DTSTAMP;VALUE=DATE-TIME:20260422T052907Z
UID:1ea82ff3dec44890948909aea006e976@www.goiania.go.leg.br
CONTACT:VEREADOR ISAÍAS RIBEIRO
CREATED;VALUE=DATE-TIME:20250616T115723Z
LAST-MODIFIED;VALUE=DATE-TIME:20250707T194325Z
LOCATION:AUDITÓRIO JAIME CÂMARA
URL:https://www.goiania.go.leg.br/sala-de-imprensa/eventos/sessao-comemora
 tiva-pelos-48-anos-da-igreja-universal-do-reino-de-deus
END:VEVENT
BEGIN:VTIMEZONE
TZID:Brazil/East
X-LIC-LOCATION:Brazil/East
BEGIN:STANDARD
DTSTART;VALUE=DATE-TIME:20250215T230000
TZNAME:BRT
TZOFFSETFROM:-0200
TZOFFSETTO:-0300
END:STANDARD
END:VTIMEZONE
END:VCALENDAR
