BEGIN:VCALENDAR
VERSION:2.0
PRODID:-//Plone.org//NONSGML plone.app.event//EN
X-WR-TIMEZONE:Brazil/East
BEGIN:VEVENT
SUMMARY:SESMINÁRIO EM COMEMORAÇÃO AO DIA DA ENFERMAGEM.
DTSTART;TZID=Brazil/East;VALUE=DATE-TIME:20240514T100000
DTEND;TZID=Brazil/East;VALUE=DATE-TIME:20240514T170000
DTSTAMP;VALUE=DATE-TIME:20260420T010340Z
UID:6005eccb806d437499199fd0a7be71fc@www.goiania.go.leg.br
CONTACT:VEREADOR RONILSON REIS
CREATED;VALUE=DATE-TIME:20240429T220924Z
LAST-MODIFIED;VALUE=DATE-TIME:20240429T220934Z
LOCATION:AUDITÓRIO CARLOS EURICO
URL:https://www.goiania.go.leg.br/sala-de-imprensa/eventos/sesminario-em-c
 omemoracao-ao-dia-da-enfermagem
END:VEVENT
BEGIN:VTIMEZONE
TZID:Brazil/East
X-LIC-LOCATION:Brazil/East
BEGIN:STANDARD
DTSTART;VALUE=DATE-TIME:20240217T230000
TZNAME:BRT
TZOFFSETFROM:-0200
TZOFFSETTO:-0300
END:STANDARD
END:VTIMEZONE
END:VCALENDAR
