BEGIN:VCALENDAR
VERSION:2.0
PRODID:-//Plone.org//NONSGML plone.app.event//EN
X-WR-TIMEZONE:Brazil/East
BEGIN:VEVENT
SUMMARY:SERÃO DISCUTIDOS DIVERSOS ASSUNTOS PERTINENTES A COMISSÃO DE HAB
 ITAÇÃO\, URBANISMO E ORDENAMENTO URBANO.
DTSTART;TZID=Brazil/East;VALUE=DATE-TIME:20200910T080000
DTEND;TZID=Brazil/East;VALUE=DATE-TIME:20200910T090000
DTSTAMP;VALUE=DATE-TIME:20260419T150051Z
UID:dbdd66bf42294ab7a0ea8b1eeccba76a@www.goiania.go.leg.br
CONTACT:VEREADOR ZANDER
CREATED;VALUE=DATE-TIME:20200908T204444Z
LAST-MODIFIED;VALUE=DATE-TIME:20200908T204500Z
LOCATION:SALA DE REUNIÃO DAS COMISSÕES
URL:https://www.goiania.go.leg.br/sala-de-imprensa/eventos/serao-discutido
 s-diversos-assuntos-pertinentes-a-comissao-de-habitacao-urbanismo-e-ordena
 mento-urbano
END:VEVENT
BEGIN:VTIMEZONE
TZID:Brazil/East
X-LIC-LOCATION:Brazil/East
BEGIN:STANDARD
DTSTART;VALUE=DATE-TIME:20200215T230000
TZNAME:BRT
TZOFFSETFROM:-0200
TZOFFSETTO:-0300
END:STANDARD
END:VTIMEZONE
END:VCALENDAR
