BEGIN:VCALENDAR
VERSION:2.0
PRODID:-//Plone.org//NONSGML plone.app.event//EN
X-WR-TIMEZONE:Brazil/East
BEGIN:VEVENT
SUMMARY:SERÁ REALIZADO UM WORKSHOP DE LANÇAMENTO DO PROJETO SETEMBRO AMA
 RELO.
DTSTART;TZID=Brazil/East;VALUE=DATE-TIME:20230830T080000
DTEND;TZID=Brazil/East;VALUE=DATE-TIME:20230830T120000
DTSTAMP;VALUE=DATE-TIME:20260422T143246Z
UID:56562351386e45de8e4b4098756ded7f@www.goiania.go.leg.br
CONTACT:VEREADOR RONILSON REIS
CREATED;VALUE=DATE-TIME:20230823T211833Z
LAST-MODIFIED;VALUE=DATE-TIME:20230823T211922Z
LOCATION:AUDITÓRIO CARLOS EURICO
URL:https://www.goiania.go.leg.br/sala-de-imprensa/eventos/sera-realizado-
 um-workshop-de-lancamento-do-projeto-setembro-amarelo
END:VEVENT
BEGIN:VTIMEZONE
TZID:Brazil/East
X-LIC-LOCATION:Brazil/East
BEGIN:STANDARD
DTSTART;VALUE=DATE-TIME:20230225T230000
TZNAME:BRT
TZOFFSETFROM:-0200
TZOFFSETTO:-0300
END:STANDARD
END:VTIMEZONE
END:VCALENDAR
