BEGIN:VCALENDAR
VERSION:2.0
PRODID:-//Plone.org//NONSGML plone.app.event//EN
X-WR-TIMEZONE:Brazil/East
BEGIN:VEVENT
SUMMARY:SERÁ REALIZADA A SESSÃO PÚBLICA DO ALUDIDO SORTEIO.
DTSTART;TZID=Brazil/East;VALUE=DATE-TIME:20211112T090000
DTEND;TZID=Brazil/East;VALUE=DATE-TIME:20211112T120000
DTSTAMP;VALUE=DATE-TIME:20260425T150827Z
UID:935af6cad6d945cd9f5f25a60a468fac@www.goiania.go.leg.br
CONTACT:DANIELLE VINHADELLI DOS SANTOS PITALUGA
CREATED;VALUE=DATE-TIME:20211110T143016Z
LAST-MODIFIED;VALUE=DATE-TIME:20211110T143723Z
LOCATION:AUDITÓRIO CARLOS EURICO
URL:https://www.goiania.go.leg.br/sala-de-imprensa/eventos/sera-realizada-
 a-sessao-publica-do-aludido-sorteio
END:VEVENT
BEGIN:VTIMEZONE
TZID:Brazil/East
X-LIC-LOCATION:Brazil/East
BEGIN:DAYLIGHT
DTSTART;VALUE=DATE-TIME:20211017T010000
TZNAME:BRST
TZOFFSETFROM:-0300
TZOFFSETTO:-0200
END:DAYLIGHT
END:VTIMEZONE
END:VCALENDAR
