BEGIN:VCALENDAR
VERSION:2.0
PRODID:-//Plone.org//NONSGML plone.app.event//EN
X-WR-TIMEZONE:Brazil/East
BEGIN:VEVENT
SUMMARY:SEMINÁRIO TEOTERAPIA.
DTSTART;TZID=Brazil/East;VALUE=DATE-TIME:20180910T190000
DTEND;TZID=Brazil/East;VALUE=DATE-TIME:20180910T220000
DTSTAMP;VALUE=DATE-TIME:20260425T105210Z
UID:0c19d3712a7643b89bda99750231bea1@www.goiania.go.leg.br
CONTACT:VEREADOR VINICIUS CIQUEIRA
CREATED;VALUE=DATE-TIME:20180809T144157Z
LAST-MODIFIED;VALUE=DATE-TIME:20180809T144204Z
LOCATION:AUDITÓRIO CARLOS EURICO
URL:https://www.goiania.go.leg.br/sala-de-imprensa/eventos/seminario-teote
 rapia
END:VEVENT
BEGIN:VTIMEZONE
TZID:Brazil/East
X-LIC-LOCATION:Brazil/East
BEGIN:STANDARD
DTSTART;VALUE=DATE-TIME:20180217T230000
TZNAME:BRT
TZOFFSETFROM:-0200
TZOFFSETTO:-0300
END:STANDARD
END:VTIMEZONE
END:VCALENDAR
