BEGIN:VCALENDAR
VERSION:2.0
PRODID:-//Plone.org//NONSGML plone.app.event//EN
X-WR-TIMEZONE:Brazil/East
BEGIN:VEVENT
SUMMARY:SEMINÁRIO SOBRE SUICÍDIO E DEPRESSÃO.
DTSTART;TZID=Brazil/East;VALUE=DATE-TIME:20180421T080000
DTEND;TZID=Brazil/East;VALUE=DATE-TIME:20180421T180000
DTSTAMP;VALUE=DATE-TIME:20260425T163601Z
UID:987efbc99aed4d6287fdf2c6d5351741@www.goiania.go.leg.br
CONTACT:VEREADOR EMILSON PEREIRA
CREATED;VALUE=DATE-TIME:20180419T133639Z
LAST-MODIFIED;VALUE=DATE-TIME:20180419T133714Z
LOCATION:AUDITÓRIO JAIME CÂMARA
URL:https://www.goiania.go.leg.br/sala-de-imprensa/eventos/seminario-sobre
 -suicidio-e-depressao-1
END:VEVENT
BEGIN:VTIMEZONE
TZID:Brazil/East
X-LIC-LOCATION:Brazil/East
BEGIN:STANDARD
DTSTART;VALUE=DATE-TIME:20180217T230000
TZNAME:BRT
TZOFFSETFROM:-0200
TZOFFSETTO:-0300
END:STANDARD
END:VTIMEZONE
END:VCALENDAR
