BEGIN:VCALENDAR
VERSION:2.0
PRODID:-//Plone.org//NONSGML plone.app.event//EN
X-WR-TIMEZONE:Brazil/East
BEGIN:VEVENT
SUMMARY:SEMINÁRIO QUE SERÁ REALIZADO PELO COLÉGIO UNO DE LEIS COM O TEM
 A: "ESPAÇOS E PROFISSÕES".
DTSTART;TZID=Brazil/East;VALUE=DATE-TIME:20231101T080000
DTEND;TZID=Brazil/East;VALUE=DATE-TIME:20231101T120000
DTSTAMP;VALUE=DATE-TIME:20260419T202255Z
UID:b6e67430eccf49ed9bb8ebeec39afd99@www.goiania.go.leg.br
CONTACT:VEREADOR DENÍCIO TRINDADE
CREATED;VALUE=DATE-TIME:20231020T133814Z
LAST-MODIFIED;VALUE=DATE-TIME:20231020T133907Z
LOCATION:AUDITÓRIO CARLOS EURICO
URL:https://www.goiania.go.leg.br/sala-de-imprensa/eventos/seminario-que-s
 era-realizado-pelo-colegio-uno-de-leis-com-o-tema-espacos-e-profissoes
END:VEVENT
BEGIN:VTIMEZONE
TZID:Brazil/East
X-LIC-LOCATION:Brazil/East
BEGIN:DAYLIGHT
DTSTART;VALUE=DATE-TIME:20231015T010000
TZNAME:BRST
TZOFFSETFROM:-0300
TZOFFSETTO:-0200
END:DAYLIGHT
END:VTIMEZONE
END:VCALENDAR
