BEGIN:VCALENDAR
VERSION:2.0
PRODID:-//Plone.org//NONSGML plone.app.event//EN
X-WR-TIMEZONE:Brazil/East
BEGIN:VEVENT
SUMMARY:SEMINÁRIO PARA OS SERVIDORES PÚBLICOS MUNICIPAIS QUE ESTÃO PART
 ICIPANDO DOS CURSOS DE QUALIFICAÇÃO E GRADUAÇÃO MINISTRADOS NO SINDIGO
 IÂNIA.
DTSTART;TZID=Brazil/East;VALUE=DATE-TIME:20230520T073000
DTEND;TZID=Brazil/East;VALUE=DATE-TIME:20230520T120000
DTSTAMP;VALUE=DATE-TIME:20260419T162736Z
UID:c3a0aa6d14c4427dacc97d212082118d@www.goiania.go.leg.br
CONTACT:RONALDO GONZAGA DOS SANTOS
CREATED;VALUE=DATE-TIME:20230508T104546Z
LAST-MODIFIED;VALUE=DATE-TIME:20230508T104603Z
LOCATION:AUDITÓRIO CARLOS EURICO
URL:https://www.goiania.go.leg.br/sala-de-imprensa/eventos/seminario-para-
 os-servidores-publicos-municipais-que-estao-participando-dos-cursos-de-qua
 lificacao-e-graduacao-ministrados-no-sindigoiania
END:VEVENT
BEGIN:VTIMEZONE
TZID:Brazil/East
X-LIC-LOCATION:Brazil/East
BEGIN:STANDARD
DTSTART;VALUE=DATE-TIME:20230225T230000
TZNAME:BRT
TZOFFSETFROM:-0200
TZOFFSETTO:-0300
END:STANDARD
END:VTIMEZONE
END:VCALENDAR
