BEGIN:VCALENDAR
VERSION:2.0
PRODID:-//Plone.org//NONSGML plone.app.event//EN
X-WR-TIMEZONE:Brazil/East
BEGIN:VEVENT
SUMMARY:SEMINÁRIO MULHERES PETISTAS EM LUTA E FORMAÇÃO.
DTSTART;TZID=Brazil/East;VALUE=DATE-TIME:20250726T080000
DTEND;TZID=Brazil/East;VALUE=DATE-TIME:20250726T180000
DTSTAMP;VALUE=DATE-TIME:20260419T190236Z
UID:3268fe60805042d8a31cc12cf1bafa28@www.goiania.go.leg.br
CONTACT:VEREADORA KATIA
CREATED;VALUE=DATE-TIME:20250707T152227Z
LAST-MODIFIED;VALUE=DATE-TIME:20250707T152233Z
LOCATION:AUDITÓRIO CARLOS EURICO
URL:https://www.goiania.go.leg.br/sala-de-imprensa/eventos/seminario-mulhe
 res-petistas-em-luta-e-formacao
END:VEVENT
BEGIN:VTIMEZONE
TZID:Brazil/East
X-LIC-LOCATION:Brazil/East
BEGIN:STANDARD
DTSTART;VALUE=DATE-TIME:20250215T230000
TZNAME:BRT
TZOFFSETFROM:-0200
TZOFFSETTO:-0300
END:STANDARD
END:VTIMEZONE
END:VCALENDAR
