BEGIN:VCALENDAR
VERSION:2.0
PRODID:-//Plone.org//NONSGML plone.app.event//EN
X-WR-TIMEZONE:Brazil/East
BEGIN:VEVENT
SUMMARY:SEMINÁRIO INSTITUCIONAL COM O OBJETIVO DE DAR CONTINUIDADE AOS TE
 MAS DEBATIDOS NA AUDIÊNCIA PÚBLICA SOBRE OS OBSTÁCULOS ENFRENTADOS POR 
 FAMÍLIAS DE PESSOAS NA CONDIÇÃO TEA (TRANSTORNO DO ESPECTRO AUTISTA).
DTSTART;TZID=Brazil/East;VALUE=DATE-TIME:20251003T090000
DTEND;TZID=Brazil/East;VALUE=DATE-TIME:20251003T170000
DTSTAMP;VALUE=DATE-TIME:20260422T155253Z
UID:44559bd6f9344e6f95e1b5a072ab66fc@www.goiania.go.leg.br
CONTACT:VEREADOR VITOR HUGO
CREATED;VALUE=DATE-TIME:20250701T214441Z
LAST-MODIFIED;VALUE=DATE-TIME:20250701T214455Z
LOCATION:AUDITÓRIO JAIME CÂMARA
URL:https://www.goiania.go.leg.br/sala-de-imprensa/eventos/seminario-insti
 tucional-com-o-objetivo-de-dar-continuidade-aos-temas-debatidos-na-audienc
 ia-publica-sobre-os-obstaculos-enfrentados-por-familias-de-pessoas-na-cond
 icao-tea-transtorno-do-espectro-autista
END:VEVENT
BEGIN:VTIMEZONE
TZID:Brazil/East
X-LIC-LOCATION:Brazil/East
BEGIN:STANDARD
DTSTART;VALUE=DATE-TIME:20250215T230000
TZNAME:BRT
TZOFFSETFROM:-0200
TZOFFSETTO:-0300
END:STANDARD
END:VTIMEZONE
END:VCALENDAR
