BEGIN:VCALENDAR
VERSION:2.0
PRODID:-//Plone.org//NONSGML plone.app.event//EN
X-WR-TIMEZONE:Brazil/East
BEGIN:VEVENT
SUMMARY:SEMINÁRIO DE RADIOLOGIA.
DTSTART;TZID=Brazil/East;VALUE=DATE-TIME:20190608T080000
DTEND;TZID=Brazil/East;VALUE=DATE-TIME:20190608T180000
DTSTAMP;VALUE=DATE-TIME:20260424T152154Z
UID:ffb507384d6a4a83ab7dbef5d4ea804d@www.goiania.go.leg.br
CONTACT:VEREADOR WELINGTON PEIXOTO
CREATED;VALUE=DATE-TIME:20190409T145708Z
LAST-MODIFIED;VALUE=DATE-TIME:20190409T145814Z
LOCATION:AUDITÓRIO JAIME CÂMARA
URL:https://www.goiania.go.leg.br/sala-de-imprensa/eventos/seminario-de-ra
 diologia
END:VEVENT
BEGIN:VTIMEZONE
TZID:Brazil/East
X-LIC-LOCATION:Brazil/East
BEGIN:STANDARD
DTSTART;VALUE=DATE-TIME:20190216T230000
TZNAME:BRT
TZOFFSETFROM:-0200
TZOFFSETTO:-0300
END:STANDARD
END:VTIMEZONE
END:VCALENDAR
