BEGIN:VCALENDAR
VERSION:2.0
PRODID:-//Plone.org//NONSGML plone.app.event//EN
X-WR-TIMEZONE:Brazil/East
BEGIN:VEVENT
SUMMARY:SEMINÁRIO DE PSICOLOGIA\, ONDE MISTRAREI AULAS SOBRE PREVENÇÃO 
 A QUEIMADURAS E COMBATE A VIOLÊNCIA DOMÉSTICA
DTSTART;TZID=Brazil/East;VALUE=DATE-TIME:20160612T083000
DTEND;TZID=Brazil/East;VALUE=DATE-TIME:20160612T160000
DTSTAMP;VALUE=DATE-TIME:20260424T204924Z
UID:0ea30fcb1587495ea06de1aaf37291ee@www.goiania.go.leg.br
CONTACT:VEREADORA DOUTORA CRISTINA
CREATED;VALUE=DATE-TIME:20171208T111312Z
LAST-MODIFIED;VALUE=DATE-TIME:20171208T112921Z
LOCATION:AUDITÓRIO CARLOS EURICO
URL:https://www.goiania.go.leg.br/sala-de-imprensa/eventos/seminario-de-ps
 icologia-onde-mistrarei-aulas-sobre-prevencao-a-queimaduras-e-combate-a-vi
 olencia-domestica-1
END:VEVENT
BEGIN:VTIMEZONE
TZID:Brazil/East
X-LIC-LOCATION:Brazil/East
BEGIN:STANDARD
DTSTART;VALUE=DATE-TIME:20160220T230000
TZNAME:BRT
TZOFFSETFROM:-0200
TZOFFSETTO:-0300
END:STANDARD
END:VTIMEZONE
END:VCALENDAR
